BEGIN:VCALENDAR
VERSION:2.0
PRODID:-//Steak House Kurata - ECPv6.5.1.5//NONSGML v1.0//EN
CALSCALE:GREGORIAN
METHOD:PUBLISH
X-WR-CALNAME:Steak House Kurata
X-ORIGINAL-URL:https://kurata.ph
X-WR-CALDESC:Events for Steak House Kurata
REFRESH-INTERVAL;VALUE=DURATION:PT1H
X-Robots-Tag:noindex
X-PUBLISHED-TTL:PT1H
BEGIN:VTIMEZONE
TZID:UTC
BEGIN:STANDARD
TZOFFSETFROM:+0000
TZOFFSETTO:+0000
TZNAME:UTC
DTSTART:20200101T000000
END:STANDARD
END:VTIMEZONE
BEGIN:VEVENT
DTSTART;TZID=UTC:20210214T000000
DTEND;TZID=UTC:20210214T020000
DTSTAMP:20260421T175633
CREATED:20200513T043834Z
LAST-MODIFIED:20210125T030204Z
UID:1091-1613260800-1613268000@kurata.ph
SUMMARY:Valentine's Day Dinner
DESCRIPTION:Ut pharetra augue nec augue. Nam elit agna\, endrerit sit amet\, tincidunt ac\, viverra sed\, nulla. Donec porta diam eu massa. Quisque diam lorem\, interdum vitae\, dapibus ac\, scelerisque vitae\, pede. Donec eget tellus non erat lacinia fermentum. Donec in velit vel ipsum auctor pulvinar.
URL:https://kurata.ph/event/sed-in-lacus-ut-enim-adipiscing/
LOCATION:Restaurant SteakBreak 340 W 50th St\, New York\, NY\, 8901\, United States
CATEGORIES:Food
ATTACH;FMTTYPE=image/jpeg:https://kurata.ph/wp-content/uploads/2020/03/928x600_img8.jpg
ORGANIZER;CN="Lily Aldrin":MAILTO:lily@example.com
END:VEVENT
BEGIN:VEVENT
DTSTART;TZID=UTC:20210201T000000
DTEND;TZID=UTC:20210201T235900
DTSTAMP:20260421T175633
CREATED:20200510T112141Z
LAST-MODIFIED:20210125T030237Z
UID:1102-1612137600-1612223940@kurata.ph
SUMMARY:Adipiscing in lacus ut enim
DESCRIPTION:Ut pharetra augue nec augue. Nam elit agna\, endrerit sit amet\, tincidunt ac\, viverra sed\, nulla. Donec porta diam eu massa. Quisque diam lorem\, interdum vitae\, dapibus ac\, scelerisque vitae\, pede. Donec eget tellus non erat lacinia fermentum. Donec in velit vel ipsum auctor pulvinar.
URL:https://kurata.ph/event/adipiscing-in-lacus-ut-enim/
LOCATION:Restaurant SteakBreak 340 W 50th St\, New York\, NY\, 8901\, United States
CATEGORIES:Food
ATTACH;FMTTYPE=image/jpeg:https://kurata.ph/wp-content/uploads/2020/05/928x600_img2.jpg
ORGANIZER;CN="Lily Aldrin":MAILTO:lily@example.com
END:VEVENT
BEGIN:VEVENT
DTSTART;TZID=UTC:20210115T000000
DTEND;TZID=UTC:20210115T235900
DTSTAMP:20260421T175633
CREATED:20200514T020057Z
LAST-MODIFIED:20210128T121809Z
UID:1108-1610668800-1610755140@kurata.ph
SUMMARY:New Year’s Eve Celebration
DESCRIPTION:Ut pharetra augue nec augue. Nam elit agna\, endrerit sit amet\, tincidunt ac\, viverra sed\, nulla. Donec porta diam eu massa. Quisque diam lorem\, interdum vitae\, dapibus ac\, scelerisque vitae\, pede. Donec eget tellus non erat lacinia fermentum. Donec in velit vel ipsum auctor pulvinar.
URL:https://kurata.ph/event/aliquip-nostra-mi/
LOCATION:Restaurant SteakBreak 340 W 50th St\, New York\, NY\, 8901\, United States
CATEGORIES:Food
ATTACH;FMTTYPE=image/jpeg:https://kurata.ph/wp-content/uploads/2020/05/928x600_img3.jpg
ORGANIZER;CN="Lily Aldrin":MAILTO:lily@example.com
END:VEVENT
BEGIN:VEVENT
DTSTART;TZID=UTC:20201226T000000
DTEND;TZID=UTC:20240407T235900
DTSTAMP:20260421T175633
CREATED:20200516T111921Z
LAST-MODIFIED:20210221T095713Z
UID:1100-1608940800-1712534340@kurata.ph
SUMMARY:Christmas Brunch and Dinner
DESCRIPTION:Ut pharetra augue nec augue. Nam elit agna\, endrerit sit amet\, tincidunt ac\, viverra sed\, nulla. Donec porta diam eu massa. Quisque diam lorem\, interdum vitae\, dapibus ac\, scelerisque vitae\, pede. Donec eget tellus non erat lacinia fermentum. Donec in velit vel ipsum auctor pulvinar.
URL:https://kurata.ph/event/lacus-ut-enim-adipiscing/
LOCATION:Restaurant SteakBreak 340 W 50th St\, New York\, NY\, 8901\, United States
CATEGORIES:Food
ATTACH;FMTTYPE=image/jpeg:https://kurata.ph/wp-content/uploads/2020/05/928x600_img4.jpg
ORGANIZER;CN="Lily Aldrin":MAILTO:lily@example.com
END:VEVENT
END:VCALENDAR